BEGIN:VCALENDAR
VERSION:2.0
PRODID:-//Howard Park - ECPv6.15.20//NONSGML v1.0//EN
CALSCALE:GREGORIAN
METHOD:PUBLISH
X-ORIGINAL-URL:https://visithowardpark.com
X-WR-CALDESC:Events for Howard Park
REFRESH-INTERVAL;VALUE=DURATION:PT1H
X-Robots-Tag:noindex
X-PUBLISHED-TTL:PT1H
BEGIN:VTIMEZONE
TZID:America/Indiana/Indianapolis
BEGIN:DAYLIGHT
TZOFFSETFROM:-0500
TZOFFSETTO:-0400
TZNAME:EDT
DTSTART:20240310T070000
END:DAYLIGHT
BEGIN:STANDARD
TZOFFSETFROM:-0400
TZOFFSETTO:-0500
TZNAME:EST
DTSTART:20241103T060000
END:STANDARD
BEGIN:DAYLIGHT
TZOFFSETFROM:-0500
TZOFFSETTO:-0400
TZNAME:EDT
DTSTART:20250309T070000
END:DAYLIGHT
BEGIN:STANDARD
TZOFFSETFROM:-0400
TZOFFSETTO:-0500
TZNAME:EST
DTSTART:20251102T060000
END:STANDARD
BEGIN:DAYLIGHT
TZOFFSETFROM:-0500
TZOFFSETTO:-0400
TZNAME:EDT
DTSTART:20260308T070000
END:DAYLIGHT
BEGIN:STANDARD
TZOFFSETFROM:-0400
TZOFFSETTO:-0500
TZNAME:EST
DTSTART:20261101T060000
END:STANDARD
END:VTIMEZONE
BEGIN:VEVENT
DTSTART;TZID=America/Indiana/Indianapolis:20250401T100000
DTEND;TZID=America/Indiana/Indianapolis:20250401T103000
DTSTAMP:20260419T113506
CREATED:20250401T183801Z
LAST-MODIFIED:20250401T184007Z
UID:10001828-1743501600-1743503400@visithowardpark.com
SUMMARY:Mommy & Me Movements
DESCRIPTION:The perfect class for you and your little!\n\nMoms with little one’s ages Newborn to 3 years old\, bring your little ones out to our new and exciting Mommy and Me Healthy Movement Class!\n\nDuring this stage of Motherhood\, it is important to keep your little one mobile and active\, incorporating movement for newborns and toddlers alike! In this 30-minute fitness and movement class\, you will experience a strengthening bond through shared activities with your little one\, while making meaningful connections in your community.\n\nRaising little ones takes a village\, help your little one learn new skills while maintaining overall physical wellness for Mommy and Little Ones. Together we can find joy in movement\, in a fun-loving and nurturing environment.\n\n      *No equipment needed\n\n REGISTER NOW
URL:https://visithowardpark.com/event/mommy-me-movements/2025-04-01/
LOCATION:Howard Park Event Center\, 219 S St. Louis Boulevard\, South Bend\, IN\, 46601\, United States
ATTACH;FMTTYPE=image/webp:https://visithowardpark.com/wp-content/uploads/2025/03/iStock-1397879227-e1742930799854.webp
END:VEVENT
BEGIN:VEVENT
DTSTART;TZID=America/Indiana/Indianapolis:20250402T180000
DTEND;TZID=America/Indiana/Indianapolis:20250402T200000
DTSTAMP:20260419T113506
CREATED:20250402T135632Z
LAST-MODIFIED:20250402T135633Z
UID:10001404-1743616800-1743624000@visithowardpark.com
SUMMARY:Fitness Bootcamp
DESCRIPTION:Get moving every Wednesday from 6:00 PM – 8:00 PM at Howard Park! \nFitness Bootcamp features HIIT workouts that build cardiovascular endurance and help develop stamina and mental toughness. \nThis class offers a supportive community that promotes teamwork through group exercise\, building accountability\, challenge\, and achievement!
URL:https://visithowardpark.com/event/fitness-bootcamp-4/
LOCATION:Howard Park Event Center\, 219 S St. Louis Boulevard\, South Bend\, IN\, 46601\, United States
ATTACH;FMTTYPE=image/jpeg:https://visithowardpark.com/wp-content/uploads/2024/01/43016T0A2340-scaled-e1729539911926.jpg
END:VEVENT
BEGIN:VEVENT
DTSTART;TZID=America/Indiana/Indianapolis:20250407T113000
DTEND;TZID=America/Indiana/Indianapolis:20250407T123000
DTSTAMP:20260419T113506
CREATED:20231206T143137Z
LAST-MODIFIED:20250416T162739Z
UID:10001579-1744025400-1744029000@visithowardpark.com
SUMMARY:Chair Yoga
DESCRIPTION:Join us for Chair Yoga every Monday\, 11:30 AM – 12:30 PM. \nStrengthen both your body and mind with this gentle form of yoga. \nChair yoga is practiced while sitting on a chair or using one for support and is designed specifically for those with physical disabilities or those who find a typical yoga session too challenging. Chair Yoga is possible because of Howard Park’s partnership with The Salvation Army KROC Center and instructor Christina Riehm. \n 
URL:https://visithowardpark.com/event/chair-yoga-4/2025-04-07/
LOCATION:Howard Park Event Center\, 219 S St. Louis Boulevard\, South Bend\, IN\, 46601\, United States
ATTACH;FMTTYPE=image/jpeg:https://visithowardpark.com/wp-content/uploads/2023/05/Facebook-Website-01.jpg
END:VEVENT
BEGIN:VEVENT
DTSTART;TZID=America/Indiana/Indianapolis:20250408T100000
DTEND;TZID=America/Indiana/Indianapolis:20250408T103000
DTSTAMP:20260419T113506
CREATED:20250401T183801Z
LAST-MODIFIED:20250401T184007Z
UID:10001829-1744106400-1744108200@visithowardpark.com
SUMMARY:Mommy & Me Movements
DESCRIPTION:The perfect class for you and your little!\n\nMoms with little one’s ages Newborn to 3 years old\, bring your little ones out to our new and exciting Mommy and Me Healthy Movement Class!\n\nDuring this stage of Motherhood\, it is important to keep your little one mobile and active\, incorporating movement for newborns and toddlers alike! In this 30-minute fitness and movement class\, you will experience a strengthening bond through shared activities with your little one\, while making meaningful connections in your community.\n\nRaising little ones takes a village\, help your little one learn new skills while maintaining overall physical wellness for Mommy and Little Ones. Together we can find joy in movement\, in a fun-loving and nurturing environment.\n\n      *No equipment needed\n\n REGISTER NOW
URL:https://visithowardpark.com/event/mommy-me-movements/2025-04-08/
LOCATION:Howard Park Event Center\, 219 S St. Louis Boulevard\, South Bend\, IN\, 46601\, United States
ATTACH;FMTTYPE=image/webp:https://visithowardpark.com/wp-content/uploads/2025/03/iStock-1397879227-e1742930799854.webp
END:VEVENT
BEGIN:VEVENT
DTSTART;TZID=America/Indiana/Indianapolis:20250411T180000
DTEND;TZID=America/Indiana/Indianapolis:20250411T200000
DTSTAMP:20260419T113506
CREATED:20250228T193149Z
LAST-MODIFIED:20250228T201322Z
UID:10001815-1744394400-1744401600@visithowardpark.com
SUMMARY:Adult Recess: The Great Egg Hunt
DESCRIPTION:Are you ready for a fun\, adults-only night out?\n\nAdult Recess is kicking off this warmer weather (FINALLY!) with what we do best: live music\, bar\, and food!\n\nFirst – You’re going to want to come hungry. We’re talking Burrito Mafia food truck.\n\nLive music will start off the evening (featuring a live DJ) and the bar will help loosen you up for…the Great Egg Hunt!\n\nWhat is it? Register for the Great Egg Hunt and you’ll be part of a fun new experience! Howard Park will be filled with eggs ready for you to find. Inside? You could be the lucky winner of gift cards from local businesses\, candy\, and more.\n\nNot interested in purchasing tickets for the egg hunt? No worries. The Adult Recess Event is FREE and open to anyone 21+. Come hang out\, enjoy the live music\, have some drinks and food from our food trucks!\n\n REGISTER NOW
URL:https://visithowardpark.com/event/adult-recess-the-great-egg-hunt/
LOCATION:Howard Park\, 219 S St Louis Blvd\, South Bend\, IN\, 46617\, United States
ATTACH;FMTTYPE=image/png:https://visithowardpark.com/wp-content/uploads/2025/02/Adult-Recess-Web-01.png
END:VEVENT
BEGIN:VEVENT
DTSTART;TZID=America/Indiana/Indianapolis:20250414T113000
DTEND;TZID=America/Indiana/Indianapolis:20250414T123000
DTSTAMP:20260419T113506
CREATED:20231206T143137Z
LAST-MODIFIED:20250416T162739Z
UID:10001580-1744630200-1744633800@visithowardpark.com
SUMMARY:Chair Yoga
DESCRIPTION:Join us for Chair Yoga every Monday\, 11:30 AM – 12:30 PM. \nStrengthen both your body and mind with this gentle form of yoga. \nChair yoga is practiced while sitting on a chair or using one for support and is designed specifically for those with physical disabilities or those who find a typical yoga session too challenging. Chair Yoga is possible because of Howard Park’s partnership with The Salvation Army KROC Center and instructor Christina Riehm. \n 
URL:https://visithowardpark.com/event/chair-yoga-4/2025-04-14/
LOCATION:Howard Park Event Center\, 219 S St. Louis Boulevard\, South Bend\, IN\, 46601\, United States
ATTACH;FMTTYPE=image/jpeg:https://visithowardpark.com/wp-content/uploads/2023/05/Facebook-Website-01.jpg
END:VEVENT
BEGIN:VEVENT
DTSTART;TZID=America/Indiana/Indianapolis:20250415T100000
DTEND;TZID=America/Indiana/Indianapolis:20250415T103000
DTSTAMP:20260419T113506
CREATED:20250401T183801Z
LAST-MODIFIED:20250401T184007Z
UID:10001830-1744711200-1744713000@visithowardpark.com
SUMMARY:Mommy & Me Movements
DESCRIPTION:The perfect class for you and your little!\n\nMoms with little one’s ages Newborn to 3 years old\, bring your little ones out to our new and exciting Mommy and Me Healthy Movement Class!\n\nDuring this stage of Motherhood\, it is important to keep your little one mobile and active\, incorporating movement for newborns and toddlers alike! In this 30-minute fitness and movement class\, you will experience a strengthening bond through shared activities with your little one\, while making meaningful connections in your community.\n\nRaising little ones takes a village\, help your little one learn new skills while maintaining overall physical wellness for Mommy and Little Ones. Together we can find joy in movement\, in a fun-loving and nurturing environment.\n\n      *No equipment needed\n\n REGISTER NOW
URL:https://visithowardpark.com/event/mommy-me-movements/2025-04-15/
LOCATION:Howard Park Event Center\, 219 S St. Louis Boulevard\, South Bend\, IN\, 46601\, United States
ATTACH;FMTTYPE=image/webp:https://visithowardpark.com/wp-content/uploads/2025/03/iStock-1397879227-e1742930799854.webp
END:VEVENT
BEGIN:VEVENT
DTSTART;TZID=America/Indiana/Indianapolis:20250415T183000
DTEND;TZID=America/Indiana/Indianapolis:20250415T193000
DTSTAMP:20260419T113506
CREATED:20250401T191406Z
LAST-MODIFIED:20250417T163743Z
UID:10001821-1744741800-1744745400@visithowardpark.com
SUMMARY:Learn to Juggle
DESCRIPTION:Learn to Juggle with Michiana Jugglers Association\, Bill Hooper and Al Eisenhour. Passionate about teaching all ages and skill levels the art of juggling\, our instructors are fun\, talented\, and engaging.\n\nThis is our core course involving a very unique teaching method utilizing juggling equipment and techniques developed by the Michiana Jugglers Association who have taught 5 times at Forever learning Institute in South Bend and twice at the Owls club in Elkhart over the past three years. The follow up course to the Learn to Juggle course is the Intermediate juggling course – ball and club passing\, which will come available in Summer or Fall. This course is also very popular and has led to several generations of jugglers within families in the Juggling club. \n\nClass is for students aged from 16-80 years old. \n REGISTER NOW
URL:https://visithowardpark.com/event/learn-to-juggle/2025-04-15/
LOCATION:Howard Park Event Center\, 219 S St. Louis Boulevard\, South Bend\, IN\, 46601\, United States
ATTACH;FMTTYPE=image/jpeg:https://visithowardpark.com/wp-content/uploads/2025/04/Luke-and-Jake-H-scaled-e1744907772774.jpg
END:VEVENT
BEGIN:VEVENT
DTSTART;TZID=America/Indiana/Indianapolis:20250421T113000
DTEND;TZID=America/Indiana/Indianapolis:20250421T123000
DTSTAMP:20260419T113506
CREATED:20231206T143137Z
LAST-MODIFIED:20250416T162739Z
UID:10001581-1745235000-1745238600@visithowardpark.com
SUMMARY:Chair Yoga
DESCRIPTION:Join us for Chair Yoga every Monday\, 11:30 AM – 12:30 PM. \nStrengthen both your body and mind with this gentle form of yoga. \nChair yoga is practiced while sitting on a chair or using one for support and is designed specifically for those with physical disabilities or those who find a typical yoga session too challenging. Chair Yoga is possible because of Howard Park’s partnership with The Salvation Army KROC Center and instructor Christina Riehm. \n 
URL:https://visithowardpark.com/event/chair-yoga-4/2025-04-21/
LOCATION:Howard Park Event Center\, 219 S St. Louis Boulevard\, South Bend\, IN\, 46601\, United States
ATTACH;FMTTYPE=image/jpeg:https://visithowardpark.com/wp-content/uploads/2023/05/Facebook-Website-01.jpg
END:VEVENT
BEGIN:VEVENT
DTSTART;TZID=America/Indiana/Indianapolis:20250422T100000
DTEND;TZID=America/Indiana/Indianapolis:20250422T103000
DTSTAMP:20260419T113506
CREATED:20250401T183801Z
LAST-MODIFIED:20250401T184007Z
UID:10001831-1745316000-1745317800@visithowardpark.com
SUMMARY:Mommy & Me Movements
DESCRIPTION:The perfect class for you and your little!\n\nMoms with little one’s ages Newborn to 3 years old\, bring your little ones out to our new and exciting Mommy and Me Healthy Movement Class!\n\nDuring this stage of Motherhood\, it is important to keep your little one mobile and active\, incorporating movement for newborns and toddlers alike! In this 30-minute fitness and movement class\, you will experience a strengthening bond through shared activities with your little one\, while making meaningful connections in your community.\n\nRaising little ones takes a village\, help your little one learn new skills while maintaining overall physical wellness for Mommy and Little Ones. Together we can find joy in movement\, in a fun-loving and nurturing environment.\n\n      *No equipment needed\n\n REGISTER NOW
URL:https://visithowardpark.com/event/mommy-me-movements/2025-04-22/
LOCATION:Howard Park Event Center\, 219 S St. Louis Boulevard\, South Bend\, IN\, 46601\, United States
ATTACH;FMTTYPE=image/webp:https://visithowardpark.com/wp-content/uploads/2025/03/iStock-1397879227-e1742930799854.webp
END:VEVENT
BEGIN:VEVENT
DTSTART;TZID=America/Indiana/Indianapolis:20250422T170000
DTEND;TZID=America/Indiana/Indianapolis:20250422T183000
DTSTAMP:20260419T113506
CREATED:20250324T200135Z
LAST-MODIFIED:20250422T203935Z
UID:10001816-1745341200-1745346600@visithowardpark.com
SUMMARY:VPA Garden Club
DESCRIPTION:Your questions about horticulture answered!\n\nEvery 4th Tuesday this spring and summer\, join horticulturist\, Mary Wojcik\, and other VPA Facility & Grounds staff to jump head first into all things plants. Explore plant care\, South Bend’s parks and green spaces\, and learn together in this unique series.\n\nDiscussion topics:Native vs. invasive plantsWater gardensSeasonal maintenance.\n\n REGISTER NOW\n\nFREE and open to the public to attend!\n\nSchedule:April 22- Howard Park- Spring Ephemerals\, Bulbs\, Early PlantingMay 27- Howard Park- Weeding and Watering\, Establish Ornamentals and NativesJune 24- Pinhook Park – Aquatic Plants: How to manage water gardensJuly 22- Howard Park- Water Management: Xeriscaping and Erosion ControlAugust 26- Charles Black Center – Fall Planting
URL:https://visithowardpark.com/event/south-bend-horticulture-series/2025-04-22/
LOCATION:Howard Park\, 219 S St Louis Blvd\, South Bend\, IN\, 46617\, United States
ATTACH;FMTTYPE=image/jpeg:https://visithowardpark.com/wp-content/uploads/2025/03/Leeper-Park-scaled-e1742915991127.jpg
END:VEVENT
BEGIN:VEVENT
DTSTART;TZID=America/Indiana/Indianapolis:20250422T183000
DTEND;TZID=America/Indiana/Indianapolis:20250422T193000
DTSTAMP:20260419T113506
CREATED:20250401T191406Z
LAST-MODIFIED:20250417T163743Z
UID:10001827-1745346600-1745350200@visithowardpark.com
SUMMARY:Learn to Juggle
DESCRIPTION:Learn to Juggle with Michiana Jugglers Association\, Bill Hooper and Al Eisenhour. Passionate about teaching all ages and skill levels the art of juggling\, our instructors are fun\, talented\, and engaging.\n\nThis is our core course involving a very unique teaching method utilizing juggling equipment and techniques developed by the Michiana Jugglers Association who have taught 5 times at Forever learning Institute in South Bend and twice at the Owls club in Elkhart over the past three years. The follow up course to the Learn to Juggle course is the Intermediate juggling course – ball and club passing\, which will come available in Summer or Fall. This course is also very popular and has led to several generations of jugglers within families in the Juggling club. \n\nClass is for students aged from 16-80 years old. \n REGISTER NOW
URL:https://visithowardpark.com/event/learn-to-juggle/2025-04-22/
LOCATION:Howard Park Event Center\, 219 S St. Louis Boulevard\, South Bend\, IN\, 46601\, United States
ATTACH;FMTTYPE=image/jpeg:https://visithowardpark.com/wp-content/uploads/2025/04/Luke-and-Jake-H-scaled-e1744907772774.jpg
END:VEVENT
BEGIN:VEVENT
DTSTART;TZID=America/Indiana/Indianapolis:20250428T113000
DTEND;TZID=America/Indiana/Indianapolis:20250428T123000
DTSTAMP:20260419T113506
CREATED:20231206T143137Z
LAST-MODIFIED:20250416T162739Z
UID:10001582-1745839800-1745843400@visithowardpark.com
SUMMARY:Chair Yoga
DESCRIPTION:Join us for Chair Yoga every Monday\, 11:30 AM – 12:30 PM. \nStrengthen both your body and mind with this gentle form of yoga. \nChair yoga is practiced while sitting on a chair or using one for support and is designed specifically for those with physical disabilities or those who find a typical yoga session too challenging. Chair Yoga is possible because of Howard Park’s partnership with The Salvation Army KROC Center and instructor Christina Riehm. \n 
URL:https://visithowardpark.com/event/chair-yoga-4/2025-04-28/
LOCATION:Howard Park Event Center\, 219 S St. Louis Boulevard\, South Bend\, IN\, 46601\, United States
ATTACH;FMTTYPE=image/jpeg:https://visithowardpark.com/wp-content/uploads/2023/05/Facebook-Website-01.jpg
END:VEVENT
BEGIN:VEVENT
DTSTART;TZID=America/Indiana/Indianapolis:20250429T100000
DTEND;TZID=America/Indiana/Indianapolis:20250429T103000
DTSTAMP:20260419T113506
CREATED:20250401T183801Z
LAST-MODIFIED:20250401T184007Z
UID:10001832-1745920800-1745922600@visithowardpark.com
SUMMARY:Mommy & Me Movements
DESCRIPTION:The perfect class for you and your little!\n\nMoms with little one’s ages Newborn to 3 years old\, bring your little ones out to our new and exciting Mommy and Me Healthy Movement Class!\n\nDuring this stage of Motherhood\, it is important to keep your little one mobile and active\, incorporating movement for newborns and toddlers alike! In this 30-minute fitness and movement class\, you will experience a strengthening bond through shared activities with your little one\, while making meaningful connections in your community.\n\nRaising little ones takes a village\, help your little one learn new skills while maintaining overall physical wellness for Mommy and Little Ones. Together we can find joy in movement\, in a fun-loving and nurturing environment.\n\n      *No equipment needed\n\n REGISTER NOW
URL:https://visithowardpark.com/event/mommy-me-movements/2025-04-29/
LOCATION:Howard Park Event Center\, 219 S St. Louis Boulevard\, South Bend\, IN\, 46601\, United States
ATTACH;FMTTYPE=image/webp:https://visithowardpark.com/wp-content/uploads/2025/03/iStock-1397879227-e1742930799854.webp
END:VEVENT
BEGIN:VEVENT
DTSTART;TZID=America/Indiana/Indianapolis:20250429T183000
DTEND;TZID=America/Indiana/Indianapolis:20250429T193000
DTSTAMP:20260419T113506
CREATED:20250401T191406Z
LAST-MODIFIED:20250417T163743Z
UID:10001822-1745951400-1745955000@visithowardpark.com
SUMMARY:Learn to Juggle
DESCRIPTION:Learn to Juggle with Michiana Jugglers Association\, Bill Hooper and Al Eisenhour. Passionate about teaching all ages and skill levels the art of juggling\, our instructors are fun\, talented\, and engaging.\n\nThis is our core course involving a very unique teaching method utilizing juggling equipment and techniques developed by the Michiana Jugglers Association who have taught 5 times at Forever learning Institute in South Bend and twice at the Owls club in Elkhart over the past three years. The follow up course to the Learn to Juggle course is the Intermediate juggling course – ball and club passing\, which will come available in Summer or Fall. This course is also very popular and has led to several generations of jugglers within families in the Juggling club. \n\nClass is for students aged from 16-80 years old. \n REGISTER NOW
URL:https://visithowardpark.com/event/learn-to-juggle/2025-04-29/
LOCATION:Howard Park Event Center\, 219 S St. Louis Boulevard\, South Bend\, IN\, 46601\, United States
ATTACH;FMTTYPE=image/jpeg:https://visithowardpark.com/wp-content/uploads/2025/04/Luke-and-Jake-H-scaled-e1744907772774.jpg
END:VEVENT
END:VCALENDAR